BEGIN:VCALENDAR
VERSION:2.0
PRODID:-// - ECPv6.15.20//NONSGML v1.0//EN
CALSCALE:GREGORIAN
METHOD:PUBLISH
X-ORIGINAL-URL:https://concordiaouddorp.nl
X-WR-CALDESC:Evenementen voor 
REFRESH-INTERVAL;VALUE=DURATION:PT1H
X-Robots-Tag:noindex
X-PUBLISHED-TTL:PT1H
BEGIN:VTIMEZONE
TZID:UTC
BEGIN:STANDARD
TZOFFSETFROM:+0000
TZOFFSETTO:+0000
TZNAME:UTC
DTSTART:20230101T000000
END:STANDARD
END:VTIMEZONE
BEGIN:VEVENT
DTSTART;TZID=UTC:20240504T190000
DTEND;TZID=UTC:20240504T203000
DTSTAMP:20260421T122650
CREATED:20240224T175524Z
LAST-MODIFIED:20240224T175524Z
UID:197-1714849200-1714854600@concordiaouddorp.nl
SUMMARY:Nationale Dodenherdenking
DESCRIPTION:Herdenkingsdienst in de Dorpstienden\nStille tocht naar het monument\nTaptoe en 2 minuten stilte\nKranslegging onder muzikale begeleiding van Brassband Concordia
URL:https://concordiaouddorp.nl/event/nationale-dodenherdenking/
END:VEVENT
BEGIN:VEVENT
DTSTART;TZID=UTC:20240516T193000
DTEND;TZID=UTC:20240516T203000
DTSTAMP:20260421T122650
CREATED:20240224T174448Z
LAST-MODIFIED:20240224T174448Z
UID:191-1715887800-1715891400@concordiaouddorp.nl
SUMMARY:Dweilband: Avond drie daagse
DESCRIPTION:
URL:https://concordiaouddorp.nl/event/dweilband-avond-drie-daagse/
LOCATION:Dorpstienden Ouddorp\, Dorpstienden 4\, Ouddorp\, Zuid-Holland\, 3253AS\, Nederland
END:VEVENT
END:VCALENDAR